BEGIN:VCALENDAR
VERSION:2.0
PRODID:-//Belen Baez Despertar - ECPv6.15.20//NONSGML v1.0//EN
CALSCALE:GREGORIAN
METHOD:PUBLISH
X-WR-CALNAME:Belen Baez Despertar
X-ORIGINAL-URL:https://www.belenbaezdespertar.com
X-WR-CALDESC:Eventos para Belen Baez Despertar
REFRESH-INTERVAL;VALUE=DURATION:PT1H
X-Robots-Tag:noindex
X-PUBLISHED-TTL:PT1H
BEGIN:VTIMEZONE
TZID:America/Sao_Paulo
BEGIN:STANDARD
TZOFFSETFROM:-0300
TZOFFSETTO:-0300
TZNAME:-03
DTSTART:20240101T000000
END:STANDARD
END:VTIMEZONE
BEGIN:VEVENT
DTSTART;TZID=America/Sao_Paulo:20260227T150000
DTEND;TZID=America/Sao_Paulo:20260227T190000
DTSTAMP:20260423T201754
CREATED:20260203T223821Z
LAST-MODIFIED:20260203T223821Z
UID:23098-1772204400-1772218800@www.belenbaezdespertar.com
SUMMARY:Sanación Energética cuántica: “DEL MIEDO A LA ACCIÓN” | Online
DESCRIPTION:Sanación energética Cuántica desde las constelaciones canalizadas\n«DEL MIEDO\, A LA ACCIÓN»\nOnline – 15 a 19hs
URL:https://www.belenbaezdespertar.com/evento/sanacion-energetica-cuantica-del-miedo-a-la-accion-online/
LOCATION:Tierra del Fuego
CATEGORIES:Talleres
ORGANIZER;CN="Belen Baez":MAILTO:belenbaez.despertar@gmail.com
END:VEVENT
BEGIN:VEVENT
DTSTART;TZID=America/Sao_Paulo:20260221T180000
DTEND;TZID=America/Sao_Paulo:20260221T200000
DTSTAMP:20260423T201754
CREATED:20250221T210058Z
LAST-MODIFIED:20260215T044652Z
UID:22878-1771696800-1771704000@www.belenbaezdespertar.com
SUMMARY:"Volver a la Paz"
DESCRIPTION:
URL:https://www.belenbaezdespertar.com/evento/volver-a-la-paz-un-camino-hacia-adentro/
LOCATION:Tierra del Fuego
ORGANIZER;CN="Belen Baez":MAILTO:belenbaez.despertar@gmail.com
END:VEVENT
BEGIN:VEVENT
DTSTART;TZID=America/Sao_Paulo:20260214T093000
DTEND;TZID=America/Sao_Paulo:20260214T143000
DTSTAMP:20260423T201754
CREATED:20260203T223235Z
LAST-MODIFIED:20260203T223248Z
UID:23093-1771061400-1771079400@www.belenbaezdespertar.com
SUMMARY:Sanación Energética cuántica: “CUANDO TE VEO\, ME VEO” | Villa Allende
DESCRIPTION:Sanación energética Cuántica desde las constelaciones canalizadas\n«CUANDO TE VEO\, ME VEO»\nPresencial – Villa Allende – Casa Alma – 09:30 a 14:30hs
URL:https://www.belenbaezdespertar.com/evento/sanacion-energetica-cuantica-cuando-te-veo-me-veo-villa-allende/
LOCATION:Tierra del Fuego
CATEGORIES:Talleres
ORGANIZER;CN="Belen Baez":MAILTO:belenbaez.despertar@gmail.com
END:VEVENT
BEGIN:VEVENT
DTSTART;TZID=America/Sao_Paulo:20260207T150000
DTEND;TZID=America/Sao_Paulo:20260207T200000
DTSTAMP:20260423T201754
CREATED:20260203T222952Z
LAST-MODIFIED:20260203T223250Z
UID:23091-1770476400-1770494400@www.belenbaezdespertar.com
SUMMARY:Sanación Energética cuántica: “DEL MIEDO A LA ACCIÓN” | Almafuerte
DESCRIPTION:Sanación energética Cuántica desde las constelaciones canalizadas\n«DEL MIEDO\, A LA ACCIÓN»\nPresencial – Almafuerte – Alma Leona – 15 a 20hs
URL:https://www.belenbaezdespertar.com/evento/sanacion-energetica-cuantica-del-miedo-a-la-accion-almafuerte/
LOCATION:Tierra del Fuego
CATEGORIES:Talleres
ORGANIZER;CN="Belen Baez":MAILTO:belenbaez.despertar@gmail.com
END:VEVENT
BEGIN:VEVENT
DTSTART;TZID=America/Sao_Paulo:20260130T150000
DTEND;TZID=America/Sao_Paulo:20260130T190000
DTSTAMP:20260423T201754
CREATED:20251231T183714Z
LAST-MODIFIED:20251231T183714Z
UID:23086-1769785200-1769799600@www.belenbaezdespertar.com
SUMMARY:ENCUENTRO ONLINE HONRA TU PASADO\, TOMA TU PODER - Constelación Canalizada cuántica
DESCRIPTION:ENCUENTRO ONLINE \nHONRA TU PASADO\, TOMA TU PODER – Constelación Canalizada cuántica \nVIA ZOOM
URL:https://www.belenbaezdespertar.com/evento/encuentro-online-honra-tu-pasado-toma-tu-poder-constelacion-canalizada-cuantica/
LOCATION:Tierra del Fuego
ORGANIZER;CN="Belen Baez":MAILTO:belenbaez.despertar@gmail.com
END:VEVENT
BEGIN:VEVENT
DTSTART;VALUE=DATE:20260123
DTEND;VALUE=DATE:20260126
DTSTAMP:20260423T201754
CREATED:20250221T201727Z
LAST-MODIFIED:20251231T183437Z
UID:22745-1769126400-1769385599@www.belenbaezdespertar.com
SUMMARY:Retiro Intensivo Vivencial: “El para qué de tu existencia” | Villa Allende
DESCRIPTION:Retiro Intensivo Vivencial\n“El para qué de tu existencia”\n“3 días para el resto de tu vida”\nBienvenido a un viaje de autosanación a través de las Constelaciones canalizadas y el Método propio de Armonización Energético Gaiana. \nEl retiro intensivo vivencial tiene como objetivo acompañar\, en un contexto de amor y de contención\, los procesos de transformación\, cambio y re-nacimiento que implican vernos en nuestra totalidad\, en nuestra oscuridad mas profunda\, esa que hemos negado\, que al darle luz\, nos habilita a ser\, integrando todo lo que somos\, en un bello recorrido hacia adentro\, donde elevamos como efecto\, nuestra frecuencia vibracional\, volviéndonos conscientes\, lúcidos\, ante todo lo que está disponible para nosotros en cada momento. \nEste proceso se emprende dentro de un campo atemporal\, descubriendo los distintos estadíos del alma en los que te has quedado detenido desde el dolor\, fragmentando así tu propia presencia\, generando separación con la fuente\, con la unidad que somos. \nModalidad: Presencial\nUbicación: “Casa Alma” – Villa Allende\, Córdoba.
URL:https://www.belenbaezdespertar.com/evento/retiro-intensivo-vivencial-el-para-que-de-tu-existencia-villa-allende-2/
LOCATION:Tierra del Fuego
CATEGORIES:Retiros
ORGANIZER;CN="Belen Baez":MAILTO:belenbaez.despertar@gmail.com
END:VEVENT
BEGIN:VEVENT
DTSTART;TZID=America/Sao_Paulo:20260116T150000
DTEND;TZID=America/Sao_Paulo:20260116T200000
DTSTAMP:20260423T201754
CREATED:20251231T183312Z
LAST-MODIFIED:20251231T183312Z
UID:23083-1768575600-1768593600@www.belenbaezdespertar.com
SUMMARY:ENCUENTRO VIVENCIAL SANACION ENERGETICA CUANTICA: "Honra tu pasado\, toma tu poder"
DESCRIPTION:ENCUENTRO VIVENCIAL \nSANACION ENERGETICA CUANTICA\n«Honra tu pasado\, toma tu poder»\n16/01 – 15 a 20hs – Almafuerte / Almaleona \nIncluye: Meditación sonora cuencos-gong con Sergio ArgÜelles
URL:https://www.belenbaezdespertar.com/evento/encuentro-vivencial-sanacion-energetica-cuantica-honra-tu-pasado-toma-tu-poder/
LOCATION:Tierra del Fuego
ORGANIZER;CN="Belen Baez":MAILTO:belenbaez.despertar@gmail.com
END:VEVENT
BEGIN:VEVENT
DTSTART;TZID=America/Sao_Paulo:20260110T093000
DTEND;TZID=America/Sao_Paulo:20260110T143000
DTSTAMP:20260423T201754
CREATED:20251231T182928Z
LAST-MODIFIED:20251231T183011Z
UID:23080-1768037400-1768055400@www.belenbaezdespertar.com
SUMMARY:ENCUENTRO VIVENCIAL DEL MIEDO A LA ACCIÓN - Constelación Canalizada cuántica
DESCRIPTION:Constelación Canalizada cuántica\nENCUENTRO VIVENCIAL DEL MIEDO A LA ACCIÓN\nVilla allende / Casa Alma
URL:https://www.belenbaezdespertar.com/evento/encuentro-vivencial-del-miedo-a-la-accion-constelacion-canalizada-cuantica/
LOCATION:Tierra del Fuego
ORGANIZER;CN="Belen Baez":MAILTO:belenbaez.despertar@gmail.com
END:VEVENT
BEGIN:VEVENT
DTSTART;TZID=America/Sao_Paulo:20251222T150000
DTEND;TZID=America/Sao_Paulo:20251222T190000
DTSTAMP:20260423T201754
CREATED:20251202T222228Z
LAST-MODIFIED:20251202T222228Z
UID:23066-1766415600-1766430000@www.belenbaezdespertar.com
SUMMARY:Sanación Energética cuántica: Última fecha del año | Online
DESCRIPTION:
URL:https://www.belenbaezdespertar.com/evento/sanacion-energetica-cuantica-ultima-fecha-del-ano-online/
LOCATION:Tierra del Fuego
ORGANIZER;CN="Belen Baez":MAILTO:belenbaez.despertar@gmail.com
END:VEVENT
BEGIN:VEVENT
DTSTART;TZID=America/Sao_Paulo:20251220T160000
DTEND;TZID=America/Sao_Paulo:20251220T220000
DTSTAMP:20260423T201754
CREATED:20251202T221956Z
LAST-MODIFIED:20251202T221956Z
UID:23064-1766246400-1766268000@www.belenbaezdespertar.com
SUMMARY:Sanación Energética cuántica: “CERRAR CICLOS DA ESPACIO A NUEVOS COMIENZOS” | Presencial
DESCRIPTION:Incluye:\nMeditación sonora cuencos-gong\nCeremonia del fuego con círculo de palabra\nMúsica en vivo \nVilla allende / Casa Alma
URL:https://www.belenbaezdespertar.com/evento/sanacion-energetica-cuantica-cerrar-ciclos-da-espacio-a-nuevos-comienzos-presencial/
LOCATION:Tierra del Fuego
ORGANIZER;CN="Belen Baez":MAILTO:belenbaez.despertar@gmail.com
END:VEVENT
BEGIN:VEVENT
DTSTART;TZID=America/Sao_Paulo:20251020T150000
DTEND;TZID=America/Sao_Paulo:20251020T190000
DTSTAMP:20260423T201754
CREATED:20250901T202847Z
LAST-MODIFIED:20250929T131742Z
UID:22873-1760972400-1760986800@www.belenbaezdespertar.com
SUMMARY:Sanación Energética cuántica: "Vivir en abundancia" | ONLINE
DESCRIPTION:Sanación Energética cuántica\n“Vivir en abundancia”\nConecta con tu ser y hacer\, sanando el vinculo con la abundancia. \nModalidad: Online (vía Zoom)\nUbicación: Almafuerte
URL:https://www.belenbaezdespertar.com/evento/sanacion-energetica-cuantica-vivir-en-abundancia-almafuerte/
LOCATION:En Linea
CATEGORIES:Talleres
ORGANIZER;CN="Belen Baez":MAILTO:belenbaez.despertar@gmail.com
END:VEVENT
BEGIN:VEVENT
DTSTART;TZID=America/Sao_Paulo:20251017T150000
DTEND;TZID=America/Sao_Paulo:20251017T200000
DTSTAMP:20260423T201754
CREATED:20250925T180825Z
LAST-MODIFIED:20250925T180825Z
UID:22888-1760713200-1760731200@www.belenbaezdespertar.com
SUMMARY:Sanación Energética cuántica: “Honra tu pasado\, toma tu poder” | PRESENCIAL Almafuerte
DESCRIPTION:Sanación Energética cuántica\n“Honra tu pasado\, toma tu poder”\nModalidad: Presencial\nUbicación: Almafuerte – Alma Leona
URL:https://www.belenbaezdespertar.com/evento/sanacion-energetica-cuantica-honra-tu-pasado-toma-tu-poder-presencial-almafuerte/
LOCATION:Tierra del Fuego
CATEGORIES:Talleres
ORGANIZER;CN="Belen Baez":MAILTO:belenbaez.despertar@gmail.com
END:VEVENT
BEGIN:VEVENT
DTSTART;TZID=America/Sao_Paulo:20251011T093000
DTEND;TZID=America/Sao_Paulo:20251011T143000
DTSTAMP:20260423T201754
CREATED:20250723T154913Z
LAST-MODIFIED:20250925T180534Z
UID:22860-1760175000-1760193000@www.belenbaezdespertar.com
SUMMARY:Sanación Energética cuántica: “Honra tu pasado\, toma tu poder” | PRESENCIAL Villa Allende
DESCRIPTION:Sanación Energética cuántica\n“Honra tu pasado\, toma tu poder”\nModalidad: Presencial\nUbicación: Casa Alma – Villa Allende
URL:https://www.belenbaezdespertar.com/evento/sanacion-energetica-cuantica-honra-tu-pasado-toma-tu-poder-presencial-villa-allende/
LOCATION:Tierra del Fuego
CATEGORIES:Talleres
ORGANIZER;CN="Belen Baez":MAILTO:belenbaez.despertar@gmail.com
END:VEVENT
BEGIN:VEVENT
DTSTART;TZID=America/Sao_Paulo:20250926T080000
DTEND;TZID=America/Sao_Paulo:20250928T170000
DTSTAMP:20260423T201754
CREATED:20250901T204237Z
LAST-MODIFIED:20250915T232356Z
UID:22876-1758873600-1759078800@www.belenbaezdespertar.com
SUMMARY:RETIRO VIVENCIAL: "EL AMOR Y LA PAREJA SAGRADA" | Villa Gral. Belgrano
DESCRIPTION:Retiro vivencial – ¡Única fecha del año!\n“El amor y la pareja sagrada”\nRepara la relación contigo mismo para ir sanamente\nal encuentro con un otro \nUbicación: Hotel Panacea – Villa General Belgrano
URL:https://www.belenbaezdespertar.com/evento/retiro-vivencial-el-amor-y-la-pareja-sagrada-villa-gral-belgrano/
LOCATION:Tierra del Fuego
CATEGORIES:Retiros
ORGANIZER;CN="Belen Baez":MAILTO:belenbaez.despertar@gmail.com
END:VEVENT
BEGIN:VEVENT
DTSTART;TZID=America/Sao_Paulo:20250829T150000
DTEND;TZID=America/Sao_Paulo:20250829T190000
DTSTAMP:20260423T201754
CREATED:20250723T155124Z
LAST-MODIFIED:20250723T155124Z
UID:22863-1756479600-1756494000@www.belenbaezdespertar.com
SUMMARY:Sanación Energética cuántica: “Honra tu pasado\, toma tu poder” | ONLINE
DESCRIPTION:Sanación Energética cuántica\n“Honra tu pasado\, toma tu poder”\nModalidad: Online
URL:https://www.belenbaezdespertar.com/evento/sanacion-energetica-cuantica-honra-tu-pasado-toma-tu-poder-online/
LOCATION:Tierra del Fuego
CATEGORIES:Talleres
ORGANIZER;CN="Belen Baez":MAILTO:belenbaez.despertar@gmail.com
END:VEVENT
BEGIN:VEVENT
DTSTART;VALUE=DATE:20250816
DTEND;VALUE=DATE:20250817
DTSTAMP:20260423T201754
CREATED:20250723T154554Z
LAST-MODIFIED:20250723T154554Z
UID:22858-1755302400-1755388799@www.belenbaezdespertar.com
SUMMARY:VOLVER A LA PAZ: “Un camino hacia adentro” - Córdoba
DESCRIPTION:VOLVER A LA PAZ\n“Un camino hacia adentro”\nUbicación: Teatro Hotel La Cañada – Córdoba
URL:https://www.belenbaezdespertar.com/evento/volver-a-la-paz-un-camino-hacia-adentro-cordoba/
LOCATION:Tierra del Fuego
ORGANIZER;CN="Belen Baez":MAILTO:belenbaez.despertar@gmail.com
END:VEVENT
BEGIN:VEVENT
DTSTART;TZID=America/Sao_Paulo:20250808T150000
DTEND;TZID=America/Sao_Paulo:20250808T200000
DTSTAMP:20260423T201754
CREATED:20250723T153820Z
LAST-MODIFIED:20250723T155131Z
UID:22853-1754665200-1754683200@www.belenbaezdespertar.com
SUMMARY:Sanación Energética cuántica: “Honra tu pasado\, toma tu poder” | PRESENCIAL Almafuerte
DESCRIPTION:Sanación Energética cuántica\n“Honra tu pasado\, toma tu poder”\nModalidad: Presencial\nUbicación: Almafuerte
URL:https://www.belenbaezdespertar.com/evento/sanacion-energetica-cuantica-honra-tu-pasado-toma-tu-poder-presencial/
LOCATION:Tierra del Fuego
CATEGORIES:Talleres
ORGANIZER;CN="Belen Baez":MAILTO:belenbaez.despertar@gmail.com
END:VEVENT
BEGIN:VEVENT
DTSTART;TZID=America/Sao_Paulo:20250728T150000
DTEND;TZID=America/Sao_Paulo:20250728T190000
DTSTAMP:20260423T201754
CREATED:20250630T125908Z
LAST-MODIFIED:20250723T154118Z
UID:22849-1753714800-1753729200@www.belenbaezdespertar.com
SUMMARY:Sanación Energética cuántica: “Cuando me veo\, te veo” - Sanando el vínculo con los pares
DESCRIPTION:Constelación Canalizada Cuántica.\nTemática: “Cuando me veo\, te veo” – Sanando el vínculo con los pares (pareja\, hermanos\, primos\, amigos\, socios).\nModalidad: Online\nUbicación: Almafuerte
URL:https://www.belenbaezdespertar.com/evento/sanacion-energetica-cuantica-cuando-me-veo-te-veo-sanando-el-vinculo-con-los-pares/
LOCATION:Tierra del Fuego
ORGANIZER;CN="Belen Baez":MAILTO:belenbaez.despertar@gmail.com
END:VEVENT
BEGIN:VEVENT
DTSTART;TZID=America/Sao_Paulo:20250725T150000
DTEND;TZID=America/Sao_Paulo:20250725T200000
DTSTAMP:20260423T201754
CREATED:20250630T124938Z
LAST-MODIFIED:20250723T154140Z
UID:22846-1753455600-1753473600@www.belenbaezdespertar.com
SUMMARY:Sanación Energética cuántica: “Cuando me veo\, te veo” - Sanando el vínculo con los pares
DESCRIPTION:Constelación Canalizada Cuántica.\nTemática: “Cuando me veo\, te veo” – Sanando el vínculo con los pares (pareja\, hermanos\, primos\, amigos\, socios).\nModalidad: Presencial\nUbicación: Almafuerte
URL:https://www.belenbaezdespertar.com/evento/sanacion-energetica-cuantica-cuando-me-veo-te-veo-sanando-el-vinculo-con-los-pares-2/
LOCATION:Tierra del Fuego
CATEGORIES:Talleres
ORGANIZER;CN="Belen Baez":MAILTO:belenbaez.despertar@gmail.com
END:VEVENT
BEGIN:VEVENT
DTSTART;TZID=America/Sao_Paulo:20250707T200000
DTEND;TZID=America/Sao_Paulo:20250707T210000
DTSTAMP:20260423T201754
CREATED:20250509T214845Z
LAST-MODIFIED:20250630T123347Z
UID:22797-1751918400-1751922000@www.belenbaezdespertar.com
SUMMARY:Meditación\, Sonido y Movimiento | Presencial Almafuerte
DESCRIPTION:
URL:https://www.belenbaezdespertar.com/evento/meditacion-sonido-y-movimiento-presencial-almafuerte-2/
LOCATION:Tierra del Fuego
ORGANIZER;CN="Belen Baez":MAILTO:belenbaez.despertar@gmail.com
END:VEVENT
BEGIN:VEVENT
DTSTART;TZID=America/Sao_Paulo:20250705T090000
DTEND;TZID=America/Sao_Paulo:20250705T140000
DTSTAMP:20260423T201754
CREATED:20250218T130235Z
LAST-MODIFIED:20250630T123057Z
UID:22741-1751706000-1751724000@www.belenbaezdespertar.com
SUMMARY:Constelación Canalizada Cuántica: “Honra lo que fue\, conecta con tu ser” | Villa Allende
DESCRIPTION:Constelación Canalizada Cuántica\n“Honra lo que fue\, conecta con tu ser”\nEl taller de constelación familiar es un método canalizado por el alemán Bert Hellinger que tiene como objetivo LIBERAR al Ser de miedos\, carencias\, destinos difíciles\, enfermedades\, traumas\, relaciones problemáticas\, fidelidades\, que provienen de desórdenes en nuestra memoria sistémica\, es decir\, nuestro sistema familiar. \nEstas tensiones que vemos en el presente\, tienen su origen real en el pasado y en la repetición de los conflictos\, comportamientos y acontecimientos de la historia familiar\, de aquello que no ha sido integrado\, incluido\, desde la consciencia\, la gratitud\, la honra y el asentimiento\, es decir\, tener la capacidad de ver con un gran SI todo lo que ha sido hasta hoy\, desde ese otro amor abarcativo donde no existe el juicio\, si no\, la perfección que me habilita a reconocer esa experiencia como un gran maestro en mi vida. \nModalidad: Presencial\nUbicación: Villa Allende – Córdoba
URL:https://www.belenbaezdespertar.com/evento/constelacion-canalizada-cuantica-honra-lo-que-fue-conecta-con-tu-ser-villa-allende-cordoba/
LOCATION:Tierra del Fuego
CATEGORIES:Talleres
ORGANIZER;CN="Belen Baez":MAILTO:belenbaez.despertar@gmail.com
END:VEVENT
BEGIN:VEVENT
DTSTART;TZID=America/Sao_Paulo:20250627T170000
DTEND;TZID=America/Sao_Paulo:20250627T190000
DTSTAMP:20260423T201754
CREATED:20250530T160804Z
LAST-MODIFIED:20250530T160804Z
UID:22809-1751043600-1751050800@www.belenbaezdespertar.com
SUMMARY:Constelación Canalizada Cuántica: “La enfermedad como camino de transformación y cambio. Activa tu poder auto-sanador” | ONLINE
DESCRIPTION:Constelación Canalizada Cuántica\n“La enfermedad como camino de transformación y cambio. Activa tu poder auto-sanador”\nSanando el vínculo con la enfermedad y el síntoma.\nModalidad: Online\nHorario: 9 a 14hs Arg
URL:https://www.belenbaezdespertar.com/evento/constelacion-canalizada-cuantica-la-enfermedad-como-camino-de-transformacion-y-cambio-activa-tu-poder-auto-sanador-online/
LOCATION:Tierra del Fuego
ORGANIZER;CN="Belen Baez":MAILTO:belenbaez.despertar@gmail.com
END:VEVENT
BEGIN:VEVENT
DTSTART;TZID=America/Sao_Paulo:20250621T090000
DTEND;TZID=America/Sao_Paulo:20250621T140000
DTSTAMP:20260423T201754
CREATED:20250530T155121Z
LAST-MODIFIED:20250530T155134Z
UID:22805-1750496400-1750514400@www.belenbaezdespertar.com
SUMMARY:Constelación Canalizada Cuántica: “La enfermedad como camino de transformación y cambio. Activa tu poder auto-sanador”
DESCRIPTION:Constelación Canalizada Cuántica\n“La enfermedad como camino de transformación y cambio. Activa tu poder auto-sanador”\nSanando el vínculo con la enfermedad y el síntoma.\nModalidad: Presencial Villa Allende\nHorario: 9 a 14hs Arg
URL:https://www.belenbaezdespertar.com/evento/constelacion-canalizada-cuantica-la-enfermedad-como-camino-de-transformacion-y-cambio-activa-tu-poder-auto-sanador-2/
LOCATION:Tierra del Fuego
ORGANIZER;CN="Belen Baez":MAILTO:belenbaez.despertar@gmail.com
END:VEVENT
BEGIN:VEVENT
DTSTART;TZID=America/Sao_Paulo:20250614T090000
DTEND;TZID=America/Sao_Paulo:20250614T140000
DTSTAMP:20260423T201754
CREATED:20250530T155055Z
LAST-MODIFIED:20250530T155055Z
UID:22804-1749891600-1749909600@www.belenbaezdespertar.com
SUMMARY:Constelación Canalizada Cuántica: “La enfermedad como camino de transformación y cambio. Activa tu poder auto-sanador”
DESCRIPTION:Constelación Canalizada Cuántica\n“La enfermedad como camino de transformación y cambio. Activa tu poder auto-sanador”\nSanando el vínculo con la enfermedad y el síntoma.\nModalidad: Presencial Almafuerte\nHorario: 9 a 14hs Arg
URL:https://www.belenbaezdespertar.com/evento/constelacion-canalizada-cuantica-la-enfermedad-como-camino-de-transformacion-y-cambio-activa-tu-poder-auto-sanador/
LOCATION:Tierra del Fuego
ORGANIZER;CN="Belen Baez":MAILTO:belenbaez.despertar@gmail.com
END:VEVENT
BEGIN:VEVENT
DTSTART;TZID=America/Sao_Paulo:20250609T200000
DTEND;TZID=America/Sao_Paulo:20250609T210000
DTSTAMP:20260423T201754
CREATED:20250509T214627Z
LAST-MODIFIED:20250530T154353Z
UID:22795-1749499200-1749502800@www.belenbaezdespertar.com
SUMMARY:Meditación\, Sonido y Movimiento | Presencial Almafuerte
DESCRIPTION:
URL:https://www.belenbaezdespertar.com/evento/meditacion-sonido-y-movimiento-presencial-almafuerte/
LOCATION:Tierra del Fuego
ORGANIZER;CN="Belen Baez":MAILTO:belenbaez.despertar@gmail.com
END:VEVENT
BEGIN:VEVENT
DTSTART;TZID=America/Sao_Paulo:20250530T150000
DTEND;TZID=America/Sao_Paulo:20250530T190000
DTSTAMP:20260423T201754
CREATED:20250421T132813Z
LAST-MODIFIED:20250509T215321Z
UID:22770-1748617200-1748631600@www.belenbaezdespertar.com
SUMMARY:Constelación Canalizada Cuántica: “Del miedo al Amor” | ONLINE
DESCRIPTION:
URL:https://www.belenbaezdespertar.com/evento/constelacion-canalizada-cuantica-del-miedo-al-amor-presencial-almafuerte/
LOCATION:En Linea
ORGANIZER;CN="Belen Baez":MAILTO:belenbaez.despertar@gmail.com
END:VEVENT
BEGIN:VEVENT
DTSTART;TZID=America/Sao_Paulo:20250411T140000
DTEND;TZID=America/Sao_Paulo:20250411T180000
DTSTAMP:20260423T201754
CREATED:20250306T180924Z
LAST-MODIFIED:20250306T180924Z
UID:22762-1744380000-1744394400@www.belenbaezdespertar.com
SUMMARY:Constelación Canalizada Cuántica | “Honra lo que fue\, conecta con tu ser”
DESCRIPTION:Constelación Canalizada Cuántica\n“Honra lo que fue\, conecta con tu ser”\nModalidad: Online\nHorario: 14 a 18 hs Arg 
URL:https://www.belenbaezdespertar.com/evento/constelacion-canalizada-cuantica-honra-lo-que-fue-conecta-con-tu-ser-2/
LOCATION:Almafuerte\, Ruta Nacional 36\, Almafuerte\, Córdoba\, X5854\, Argentina
ORGANIZER;CN="Belen Baez":MAILTO:belenbaez.despertar@gmail.com
END:VEVENT
BEGIN:VEVENT
DTSTART;TZID=America/Sao_Paulo:20250328T150000
DTEND;TZID=America/Sao_Paulo:20250328T200000
DTSTAMP:20260423T201754
CREATED:20250306T180611Z
LAST-MODIFIED:20250306T180611Z
UID:22760-1743174000-1743192000@www.belenbaezdespertar.com
SUMMARY:Constelación Canalizada Cuántica | “Un camino hacia el amor propio”
DESCRIPTION:Constelación Canalizada Cuántica\n“Un camino hacia el amor propio”\n  \nModalidad: Presencial\nUbicación: Almafuerte\nHorario: 15 a 20 hs Arg
URL:https://www.belenbaezdespertar.com/evento/constelacion-canalizada-cuantica-un-camino-hacia-el-amor-propio/
LOCATION:Almafuerte\, Ruta Nacional 36\, Almafuerte\, Córdoba\, X5854\, Argentina
ORGANIZER;CN="Belen Baez":MAILTO:belenbaez.despertar@gmail.com
END:VEVENT
BEGIN:VEVENT
DTSTART;TZID=America/Sao_Paulo:20250321T140000
DTEND;TZID=America/Sao_Paulo:20250321T180000
DTSTAMP:20260423T201754
CREATED:20250221T201256Z
LAST-MODIFIED:20250221T201256Z
UID:22743-1742565600-1742580000@www.belenbaezdespertar.com
SUMMARY:Constelación Canalizada Cuántica | “Honra lo que fue\, conecta con tu ser”
DESCRIPTION:Constelación Canalizada Cuántica\n“Honra lo que fue\, conecta con tu ser”\nModalidad: Online
URL:https://www.belenbaezdespertar.com/evento/constelacion-canalizada-cuantica-honra-lo-que-fue-conecta-con-tu-ser/
LOCATION:Tierra del Fuego
ORGANIZER;CN="Belen Baez":MAILTO:belenbaez.despertar@gmail.com
END:VEVENT
BEGIN:VEVENT
DTSTART;TZID=America/Sao_Paulo:20250315T180000
DTEND;TZID=America/Sao_Paulo:20250315T200000
DTSTAMP:20260423T201754
CREATED:20250207T221434Z
LAST-MODIFIED:20250207T221434Z
UID:22731-1742061600-1742068800@www.belenbaezdespertar.com
SUMMARY:Teatro “Volver a la paz” | Córdoba capital
DESCRIPTION:Volver a la paz\nTe invito a SER PARTE de esta experiencia inmersiva\, donde juntos viviremos UN CAMINO HACIA ADENTRO. Volver a La Paz es un encuentro único\, un espacio de transformación personal donde cada persona vivirá su propia experiencia. A través de canalizaciones y constelaciones\, acompañadas por arte\, música en vivo y artistas invitados. Juntos crearemos un ambiente donde la sanación y el autodescubrimiento sucederán de manera auténtica y profunda. \nFecha: 15 de marzo a las 18 hs.\nUbicación: Teatro La Cañada\, Cba Capital.\nEntradas ya disponibles por Al Pogo
URL:https://www.belenbaezdespertar.com/evento/teatro-volver-a-la-paz-cordoba-capital/
LOCATION:Tierra del Fuego
ORGANIZER;CN="Belen Baez":MAILTO:belenbaez.despertar@gmail.com
END:VEVENT
END:VCALENDAR